Workbook

Sheet Ergebnis
A1: Platz Kategorie | B1: Platz Gesamt | C1: Start- nummer | D1: Fahrer 1 | E1: Jahrgang Fahrer 1 | F1: Fahrer 2 | G1: Verein/Teamname | H1: Bewerb | I1: Kategorie | J1: Radtyp | K1: Zeit Start | L1: Zeit Ziel | M1: Zeit Ergebnis | N1: km | O1: km/h gesamt
A2: 1 | B2: 1 | C2: 16 | D2: Philip Sanjath | F2: Jakob Ulreich | G2: Weichberger - KTM, VICC Racing Division | H2: PZF | I2: Herrn | K2: 0.59444444 | L2: 0.63324074 | M2: =L2-K2 -> 0.038796296 | N2: =Konfig!$D$5 -> 43.3 | O2: =N2/M2/24 -> 46.50358
A3: 2 | B3: 2 | C3: 26 | D3: Michael Eder | F3: Patrick Fitzinger | G3: 2RC FORMAT Radshop Kalteis | H3: PZF | I3: Herrn | K3: 0.60138889 | L3: 0.64049769 | M3: =L3-K3 -> 0.039108796 | N3: =Konfig!$D$5 -> 43.3 | O3: =N3/M3/24 -> 46.131992
A4: 1 | B4: 3 | C4: 52 | D4: Mikolas Rost | E4: 1983 | G4: RC Raiba Kosmopiloten Zwettl | I4: Einzel Herrn | J4: ZFR | K4: 0.61944444 | L4: 0.65873843 | M4: =L4-K4 -> 0.039293981 | N4: =Konfig!$D$5 -> 43.3 | O4: =N4/M4/24 -> 45.91458
A5: 2 | B5: 4 | C5: 54 | D5: Andreas Widhalm | E5: 1987 | G5: RC Raiba Kosmopiloten Zwettl | I5: Einzel Herrn | J5: ZFR | K5: 0.62083333 | L5: 0.6603125 | M5: =L5-K5 -> 0.039479167 | N5: =Konfig!$D$5 -> 43.3 | O5: =N5/M5/24 -> 45.699208
A6: 3 | B6: 5 | C6: 45 | D6: Harald Becker | E6: 1981 | G6: FREE EAGLE Fun Racing Team | I6: Einzel Herrn | J6: ZFR | K6: 0.61458333 | L6: 0.65472222 | M6: =L6-K6 -> 0.040138889 | N6: =Konfig!$D$5 -> 43.3 | O6: =N6/M6/24 -> 44.948097
A7: 4 | B7: 6 | C7: 32 | D7: Wolfgang Steinbach | E7: 1970 | G7: maroitalia racing team | I7: Einzel Herrn | J7: RR | K7: 0.60555556 | L7: 0.64590278 | M7: =L7-K7 -> 0.040347222 | N7: =Konfig!$D$5 -> 43.3 | O7: =N7/M7/24 -> 44.716007
A8: 5 | B8: 7 | C8: 44 | D8: Wolfgang Bachofner | E8: 1993 | G8: RC Raiba Kosmopiloten Zwettl - WB-Racing | I8: Einzel Herrn | J8: ZFR | K8: 0.61388889 | L8: 0.65423611 | M8: =L8-K8 -> 0.040347222 | N8: =Konfig!$D$5 -> 43.3 | O8: =N8/M8/24 -> 44.716007
A9: 6 | B9: 8 | C9: 38 | D9: Daniel Kapeller | E9: 1980 | G9: Wagram Cycling Team - no carbs, no glory | I9: Einzel Herrn | J9: ZFR | K9: 0.60972222 | L9: 0.65008102 | M9: =L9-K9 -> 0.040358796 | N9: =Konfig!$D$5 -> 43.3 | O9: =N9/M9/24 -> 44.703183
A10: 3 | B10: 9 | C10: 18 | D10: Andreas Zöchling | F10: Michael Gaubitzer | G10: RC Raiba Kosmopiloten/ARBÖ Kolkar Cycling Team | H10: PZF | I10: Herrn | K10: 0.59583333 | L10: 0.6362037 | M10: =L10-K10 -> 0.04037037 | N10: =Konfig!$D$5 -> 43.3 | O10: =N10/M10/24 -> 44.690367
A11: 4 | B11: 10 | C11: 21 | D11: Thomas Reischer | F11: Christoph Scheuch | G11: 2RCFORMAT Radshop Kalteis - old and young | I11: Herrn | K11: 0.59791667 | L11: 0.63834491 | M11: =L11-K11 -> 0.040428241 | N11: =Konfig!$D$5 -> 43.3 | O11: =N11/M11/24 -> 44.626396
A12: 7 | B12: 11 | C12: 56 | D12: Dominik Schleritzko | E12: 1994 | I12: Einzel Herrn | J12: RR | K12: 0.62222222 | L12: 0.66283565 | M12: =L12-K12 -> 0.040613426 | N12: =Konfig!$D$5 -> 43.3 | O12: =N12/M12/24 -> 44.422913
A13: 8 | B13: 12 | C13: 35 | D13: Manfred Neudorfer | E13: 1974 | G13: Cycle Team Tulln | I13: Einzel Herrn | J13: RR | K13: 0.60763889 | L13: 0.64837963 | M13: =L13-K13 -> 0.040740741 | N13: =Konfig!$D$5 -> 43.3 | O13: =N13/M13/24 -> 44.284091
A14: 5 | B14: 13 | C14: 25 | D14: Andreas Tiefenböck | F14: Reinhard Tiefenböck | G14: 2RC FORMAT Radshop Kalteis | H14: PZF | I14: Herrn | K14: 0.60069444 | L14: 0.64178241 | M14: =L14-K14 -> 0.041087963 | N14: =Konfig!$D$5 -> 43.3 | O14: =N14/M14/24 -> 43.909859
A15: 1 | B15: 14 | C15: 60 | D15: Bernd Eichinger | E15: 1980 | I15: Einzel Herrn | J15: RR | K15: 0.625 | L15: 0.6665162 | M15: =L15-K15 -> 0.041516204 | N15: =Konfig!$D$5 -> 43.3 | O15: =N15/M15/24 -> 43.456928
A16: 9 | B16: 15 | C16: 43 | D16: Elias Kronister | E16: 2004 | G16: 2RC Format Radshop Kalteis | I16: Einzel Herrn | J16: RR | K16: 0.61319444 | L16: 0.6550463 | M16: =L16-K16 -> 0.041851852 | N16: =Konfig!$D$5 -> 43.3 | O16: =N16/M16/24 -> 43.108407
A17: 6 | B17: 16 | C17: 20 | D17: Holasek Sascha | F17: Kaburek Jürgen | G17: 2RCFORMAT Radshop Kalteis | H17: PZF | I17: Herrn | K17: 0.59722222 | L17: 0.63944444 | M17: =L17-K17 -> 0.042222222 | N17: =Konfig!$D$5 -> 43.3 | O17: =N17/M17/24 -> 42.730263
A18: 7 | B18: 17 | C18: 23 | D18: Jürgen Layer | F18: Thomas Elsigan | G18: RC Raiba Kosmopiloten Zwettl - vermessen & verspannt | I18: Herrn | K18: 0.59930556 | L18: 0.64178241 | M18: =L18-K18 -> 0.042476852 | N18: =Konfig!$D$5 -> 43.3 | O18: =N18/M18/24 -> 42.474114
A19: 10 | B19: 18 | C19: 49 | D19: Alfred Nentwich | E19: 1966 | G19: RC Friedberg Pinggau | I19: Einzel Herrn | J19: ZFR | K19: 0.61736111 | L19: 0.65986111 | M19: =L19-K19 -> 0.0425 | N19: =Konfig!$D$5 -> 43.3 | O19: =N19/M19/24 -> 42.45098
A20: 8 | B20: 19 | C20: 4 | D20: Hofmann Patrick | F20: Lukas Birklbauer | G20: REINDL-GARTNER Cycling Team | H20: PZF | I20: Herrn | K20: 0.58611111 | L20: 0.62908565 | M20: =L20-K20 -> 0.042974537 | N20: =Konfig!$D$5 -> 43.3 | O20: =N20/M20/24 -> 41.982225
A21: 11 | B21: 20 | C21: 31 | D21: Helmut Peyrl | E21: 1973 | G21: PSV Linz | I21: Einzel Herrn | J21: RR | K21: 0.60486111 | L21: 0.64810185 | M21: =L21-K21 -> 0.043240741 | N21: =Konfig!$D$5 -> 43.3 | O21: =N21/M21/24 -> 41.723769
A22: 12 | B22: 21 | C22: 3 | D22: Gerhard Wögerer | E22: 1982 | G22: RSC Krems | I22: Einzel Herrn | J22: ZFR | K22: 0.58541667 | L22: 0.62913194 | M22: =L22-K22 -> 0.043715278 | N22: =Konfig!$D$5 -> 43.3 | O22: =N22/M22/24 -> 41.27085
A23: 13 | B23: 22 | C23: 57 | D23: Stefan Binder | E23: 1992 | G23: FDC | I23: Einzel Herrn | J23: RR | K23: 0.62291667 | L23: 0.66664352 | M23: =L23-K23 -> 0.043726852 | N23: =Konfig!$D$5 -> 43.3 | O23: =N23/M23/24 -> 41.259926
A24: 14 | B24: 23 | C24: 41 | D24: Peter Weszits | E24: 1980 | G24: AWR Wienenergie Rösler & Co | I24: Einzel Herrn | J24: ZFR | K24: 0.61180556 | L24: 0.65631944 | M24: =L24-K24 -> 0.044513889 | N24: =Konfig!$D$5 -> 43.3 | O24: =N24/M24/24 -> 40.530421
A25: 15 | B25: 24 | C25: 58 | D25: Manfred Koch | E25: 1970 | I25: Einzel Herrn | J25: ZFR | K25: 0.62361111 | L25: 0.66820602 | M25: =L25-K25 -> 0.044594907 | N25: =Konfig!$D$5 -> 43.3 | O25: =N25/M25/24 -> 40.456787
A26: 9 | B26: 25 | C26: 39 | D26: Lukas Weissensteiner | F26: Bernhard Fertl | G26: Union XC-Club Mühldorf | I26: Herrn | K26: 0.61041667 | L26: 0.65545139 | M26: =L26-K26 -> 0.045034722 | N26: =Konfig!$D$5 -> 43.3 | O26: =N26/M26/24 -> 40.061681
A27: 1 | B27: 26 | C27: 37 | D27: Anna Vass | E27: 2000 | G27: BBUC Racing Dream | I27: Einzel Damen | J27: RR | K27: 0.60902778 | L27: 0.6543287 | M27: =L27-K27 -> 0.045300926 | N27: =Konfig!$D$5 -> 43.3 | O27: =N27/M27/24 -> 39.826265
A28: 10 | B28: 27 | C28: 36 | D28: Markus Volkmann | F28: Hieronymus Orth | I28: Herrn | K28: 0.60833333 | L28: 0.65375 | M28: =L28-K28 -> 0.045416667 | N28: =Konfig!$D$5 -> 43.3 | O28: =N28/M28/24 -> 39.724771
A29: 11 | B29: 28 | C29: 10 | D29: Christoph Zwölfer | F29: Christoph Stibl | G29: RC Ybbs - El Glatzo | H29: Shadow | I29: Herrn | K29: 0.59027778 | L29: 0.63608796 | M29: =L29-K29 -> 0.045810185 | N29: =Konfig!$D$5 -> 43.3 | O29: =N29/M29/24 -> 39.383527
A30: 1 | B30: 29 | C30: 8 | D30: Laura Hennebichler | F30: Patrick Meidl | G30: RC Raiba Kosmopiloten Zwettl - Das dynamische Duo | H30: PZF | I30: Mixed | K30: 0.58888889 | L30: 0.63474537 | M30: =L30-K30 -> 0.045856481 | N30: =Konfig!$D$5 -> 43.3 | O30: =N30/M30/24 -> 39.343766
A31: 2 | B31: 30 | C31: 11 | D31: Laura Bischof | F31: Manuel Neumann | G31: DreiRadBande | I31: Mixed | K31: 0.59097222 | L31: 0.6375 | M31: =L31-K31 -> 0.046527778 | N31: =Konfig!$D$5 -> 43.3 | O31: =N31/M31/24 -> 38.776119
A32: 16 | B32: 31 | C32: 33 | D32: Joachim Grassinger | E32: 2001 | G32: RC Raiba Kosmpiloten Zwettl | I32: Einzel Herrn | J32: RR | K32: 0.60625 | L32: 0.65290509 | M32: =L32-K32 -> 0.046655093 | N32: =Konfig!$D$5 -> 43.3 | O32: =N32/M32/24 -> 38.670305
A33: 17 | B33: 32 | C33: 50 | D33: Josef Sattler | G33: rc tadten | I33: Einzel Herrn | K33: 0.61805556 | L33: 0.66480324 | M33: =L33-K33 -> 0.046747685 | N33: =Konfig!$D$5 -> 43.3 | O33: =N33/M33/24 -> 38.593711
A34: 12 | B34: 33 | C34: 24 | D34: Johannes Wittmann | F34: Christoph Schierhuber | G34: RC Raiba Kosmopiloten Zwettl - Maillot Blanc | H34: PZF | I34: Herrn | K34: 0.6 | L34: 0.64722222 | M34: =L34-K34 -> 0.047222222 | N34: =Konfig!$D$5 -> 43.3 | O34: =N34/M34/24 -> 38.205882
A35: 3 | B35: 34 | C35: 6 | D35: Martina Schmitt | F35: Andreas Grabner | G35: Lanterne Rouge SCC Malina | H35: PZF | I35: Mixed | K35: 0.5875 | L35: 0.635 | M35: =L35-K35 -> 0.0475 | N35: =Konfig!$D$5 -> 43.3 | O35: =N35/M35/24 -> 37.982456
A36: 18 | B36: 35 | C36: 55 | D36: Johannes Krenn | E36: 1968 | G36: Cycle Team Tulln | I36: Einzel Herrn | J36: ZFR | K36: 0.62152778 | L36: 0.6690625 | M36: =L36-K36 -> 0.047534722 | N36: =Konfig!$D$5 -> 43.3 | O36: =N36/M36/24 -> 37.954711
A37: 13 | B37: 36 | C37: 19 | D37: Alexander Durstmüller | F37: Roman Berger | G37: RSC Krems | I37: Herrn | K37: 0.59652778 | L37: 0.6441088 | M37: =L37-K37 -> 0.047581019 | N37: =Konfig!$D$5 -> 43.3 | O37: =N37/M37/24 -> 37.917782
A38: 14 | B38: 37 | C38: 17 | D38: Gerald Leutgeb | F38: Leopold Haselmann | G38: ÖAMTC-ASC Tiroler Radler-Bozen/RC-Tulln | I38: Herrn | K38: 0.59513889 | L38: 0.64274306 | M38: =L38-K38 -> 0.047604167 | N38: =Konfig!$D$5 -> 43.3 | O38: =N38/M38/24 -> 37.899344
A39: 15 | B39: 38 | C39: 12 | D39: Christian Ott | F39: Erich Aichinger | G39: ARBÖ Kollar Cycling Team | I39: Herrn | K39: 0.59166667 | L39: 0.6393287 | M39: =L39-K39 -> 0.047662037 | N39: =Konfig!$D$5 -> 43.3 | O39: =N39/M39/24 -> 37.853327
A40: 4 | B40: 39 | C40: 59 | D40: David Janecka | F40: Claudia Obernhuber | I40: Mixed | K40: 0.62430556 | L40: 0.67228009 | M40: =L40-K40 -> 0.047974537 | N40: =Konfig!$D$5 -> 43.3 | O40: =N40/M40/24 -> 37.606755
A41: 19 | B41: 40 | C41: 2 | D41: Hannes Krivetz | E41: 1959 | G41: RC Raiba Kosmopiloten Zwettl | H41: PZF | I41: Einzel Herrn | J41: ZFR | K41: 0.58472222 | L41: 0.63319444 | M41: =L41-K41 -> 0.048472222 | N41: =Konfig!$D$5 -> 43.3 | O41: =N41/M41/24 -> 37.22063
A42: 5 | B42: 41 | C42: 13 | D42: Martina Jansch | F42: Mario Baumgartner | G42: M&M Racing – Stronger Together | I42: Mixed | K42: 0.59236111 | L42: 0.64189815 | M42: =L42-K42 -> 0.049537037 | N42: =Konfig!$D$5 -> 43.3 | O42: =N42/M42/24 -> 36.420561
A43: 16 | B43: 42 | C43: 47 | D43: Michael Gössl | F43: Andreas Schröder | G43: RC Raiba Kosmopiloten | I43: Herrn | K43: 0.61597222 | L43: 0.66559028 | M43: =L43-K43 -> 0.049618056 | N43: =Konfig!$D$5 -> 43.3 | O43: =N43/M43/24 -> 36.361092
A44: 6 | B44: 43 | C44: 46 | D44: Doris Schwaiger-Robl | F44: Paul Robl | G44: RC Raiba Kosmopiloten - nicht streiten, treten | I44: Mixed | K44: 0.61527778 | L44: 0.665 | M44: =L44-K44 -> 0.049722222 | N44: =Konfig!$D$5 -> 43.3 | O44: =N44/M44/24 -> 36.284916
A45: 7 | B45: 44 | C45: 14 | D45: Johanna Baumgartner | F45: Michael Baumgartner | G45: Bike Union Altenberg - Ice Ice Baumis | I45: Mixed | K45: 0.59305556 | L45: 0.64311343 | M45: =L45-K45 -> 0.05005787 | N45: =Konfig!$D$5 -> 43.3 | O45: =N45/M45/24 -> 36.041618
A46: 20 | B46: 45 | C46: 40 | D46: Thomas Holzmann | E46: 1995 | G46: RC Raiba Kosmopiloten Zwettl - Han Solo | I46: Einzel Herrn | J46: RR | K46: 0.61111111 | L46: 0.66121528 | M46: =L46-K46 -> 0.050104167 | N46: =Konfig!$D$5 -> 43.3 | O46: =N46/M46/24 -> 36.008316
A47: 2 | B47: 46 | C47: 48 | D47: Theresa Mistelbauer | E47: 2001 | G47: PTM | I47: Einzel Damen | J47: RR | K47: 0.61666667 | L47: 0.66677083 | M47: =L47-K47 -> 0.050104167 | N47: =Konfig!$D$5 -> 43.3 | O47: =N47/M47/24 -> 36.008316
A48: 21 | B48: 47 | C48: 34 | D48: Alexander Heili | E48: 1973 | G48: ULC Horn | I48: Einzel Herrn | J48: ZFR | K48: 0.60694444 | L48: 0.6571412 | M48: =L48-K48 -> 0.050196759 | N48: =Konfig!$D$5 -> 43.3 | O48: =N48/M48/24 -> 35.941895
A49: 8 | B49: 48 | C49: 9 | D49: Katharina Brenner | F49: Mayerhofer Martin | G49: RC Raiba Kosmopiloten Zwettl - Klick & Klack | I49: Mixed | K49: 0.58958333 | L49: 0.64104167 | M49: =L49-K49 -> 0.051458333 | N49: =Konfig!$D$5 -> 43.3 | O49: =N49/M49/24 -> 35.060729
A50: 3 | B50: 49 | C50: 28 | D50: Brigitte Stocker | E50: 1975 | G50: BearRides | I50: Einzel Damen | J50: RR | K50: 0.60277778 | L50: 0.65479167 | M50: =L50-K50 -> 0.052013889 | N50: =Konfig!$D$5 -> 43.3 | O50: =N50/M50/24 -> 34.686248
A51: 9 | B51: 50 | C51: 15 | D51: Andrea Melicharova | F51: Petr Vymola | G51: Maulwurfviertel | H51: PZF | I51: Mixed | K51: 0.59375 | L51: 0.6458912 | M51: =L51-K51 -> 0.052141204 | N51: =Konfig!$D$5 -> 43.3 | O51: =N51/M51/24 -> 34.601554
A52: 17 | B52: 51 | C52: 7 | D52: Nikolaus Hondl | F52: Jakob Galle | G52: Team Twinni | H52: PZF | I52: Herrn | K52: 0.58819444 | L52: 0.64072917 | M52: =L52-K52 -> 0.052534722 | N52: =Konfig!$D$5 -> 43.3 | O52: =N52/M52/24 -> 34.342366
A53: 4 | B53: 52 | C53: 42 | D53: Christina Kastner | E53: 1987 | G53: RC Raiba Kosmopiloten Zwettl | I53: Einzel Damen | J53: RR | K53: 0.6125 | L53: 0.66659722 | M53: =L53-K53 -> 0.054097222 | N53: =Konfig!$D$5 -> 43.3 | O53: =N53/M53/24 -> 33.350449
A54: 22 | B54: 53 | C54: 30 | D54: Florian Gruber | E54: 2001 | I54: Einzel Herrn | J54: RR | K54: 0.60416667 | L54: 0.65946759 | M54: =L54-K54 -> 0.055300926 | N54: =Konfig!$D$5 -> 43.3 | O54: =N54/M54/24 -> 32.624529
A55: 10 | B55: 54 | C55: 5 | D55: Gabriela Dangl-Pater | F55: Kees Pater | G55: RC Raiba Kosmopiloten Zwettl - die fleißig Strampelnden | H55: PZF | I55: Mixed | K55: 0.58680556 | L55: 0.64416667 | M55: =L55-K55 -> 0.057361111 | N55: =Konfig!$D$5 -> 43.3 | O55: =N55/M55/24 -> 31.452785
A56: 5 | B56: 55 | C56: 29 | D56: Andrea Krenn | E56: 1973 | G56: Cycle Team Tulln | I56: Einzel Damen | J56: RR | K56: 0.60347222 | L56: 0.66248843 | M56: =L56-K56 -> 0.059016204 | N56: =Konfig!$D$5 -> 43.3 | O56: =N56/M56/24 -> 30.5707
A57: 18 | B57: 56 | C57: 1 | D57: Michael Bujak | F57: Jan Bujak | G57: BUJAK | I57: Herrn | K57: 0.58402778 | L57: 0.64606481 | M57: =L57-K57 -> 0.062037037 | N57: =Konfig!$D$5 -> 43.3 | O57: =N57/M57/24 -> 29.08209
A58: 6 | B58: 57 | C58: 27 | D58: Traude Simetits | E58: 1962 | G58: NORA RACING TEAM | H58: PZF | I58: Einzel Damen | J58: ZFR | K58: 0.60208333 | L58: 0.66483796 | M58: =L58-K58 -> 0.06275463 | N58: =Konfig!$D$5 -> 43.3 | O58: =N58/M58/24 -> 28.749539
B59: DNF | C59: 53 | D59: Christian Suchanek | E59: 1979 | G59: RSC Krems | I59: Einzel Herrn | J59: ZFR | K59: 0.62013889 | M59: =L59-K59 -> -0.62013889 | N59: =Konfig!$D$5 -> 43.3 | O59: =N59/M59/24 -> -2.9092945
B60: DNS | C60: 51 | D60: Gerald Hauer | G60: SU bikestore.cc Team | I60: Einzel Herrn | K60: 0.61875 | M60: =L60-K60 -> -0.61875 | N60: =Konfig!$D$5 -> 43.3 | O60: =N60/M60/24 -> -2.9158249
B61: DNS | C61: 22 | D61: Karl Schöller | F61: Max Schrenk | G61: 2RCFORMAT Radshop Kalteis | H61: PZF | I61: Herrn | K61: 0.59861111 | M61: =L61-K61 -> -0.59861111 | N61: =Konfig!$D$5 -> 43.3 | O61: =N61/M61/24 -> -3.0139211
C62: 61 | K62: 0.62569444 | M62: =L62-K62 -> -0.62569444 | N62: =Konfig!$D$5 -> 43.3 | O62: =N62/M62/24 -> -2.8834628
C63: 62 | K63: 0.62638889 | M63: =L63-K63 -> -0.62638889 | N63: =Konfig!$D$5 -> 43.3 | O63: =N63/M63/24 -> -2.8802661
C64: 63 | K64: 0.62708333 | M64: =L64-K64 -> -0.62708333 | N64: =Konfig!$D$5 -> 43.3 | O64: =N64/M64/24 -> -2.8770764
C65: 64 | K65: 0.62777778 | M65: =L65-K65 -> -0.62777778 | N65: =Konfig!$D$5 -> 43.3 | O65: =N65/M65/24 -> -2.8738938
C66: 65 | K66: 0.62847222 | M66: =L66-K66 -> -0.62847222 | N66: =Konfig!$D$5 -> 43.3 | O66: =N66/M66/24 -> -2.8707182
C67: 66 | K67: 0.62916667 | M67: =L67-K67 -> -0.62916667 | N67: =Konfig!$D$5 -> 43.3 | O67: =N67/M67/24 -> -2.8675497
C68: 67 | K68: 0.62986111 | M68: =L68-K68 -> -0.62986111 | N68: =Konfig!$D$5 -> 43.3 | O68: =N68/M68/24 -> -2.8643881
C69: 68 | K69: 0.63055556 | M69: =L69-K69 -> -0.63055556 | N69: =Konfig!$D$5 -> 43.3 | O69: =N69/M69/24 -> -2.8612335
C70: 69 | K70: 0.63125 | M70: =L70-K70 -> -0.63125 | N70: =Konfig!$D$5 -> 43.3 | O70: =N70/M70/24 -> -2.8580858
C71: 70 | K71: 0.63194444 | M71: =L71-K71 -> -0.63194444 | N71: =Konfig!$D$5 -> 43.3 | O71: =N71/M71/24 -> -2.8549451
C72: 71 | K72: 0.63263889 | M72: =L72-K72 -> -0.63263889 | N72: =Konfig!$D$5 -> 43.3 | O72: =N72/M72/24 -> -2.8518112

Sheet Mixed PZF
A1: Platz Kategorie | B1: Platz Gesamt | C1: Start- nummer | D1: Fahrer 1 | E1: Jahrgang Fahrer 1 | F1: Fahrer 2 | G1: Verein/Teamname | H1: Kategorie | I1: Radtyp | J1: Zeit Start | K1: Zeit Ziel | L1: Zeit Ergebnis | M1: km | N1: km/h gesamt
A2: 1 | B2: 29 | C2: 8 | D2: Laura Hennebichler | F2: Patrick Meidl | G2: RC Raiba Kosmopiloten Zwettl - Das dynamische Duo | H2: Mixed | J2: 0.58888889 | K2: 0.63474537 | L2: 0.045856481 | M2: 43.3 | N2: 39.343766
A3: 2 | B3: 30 | C3: 11 | D3: Laura Bischof | F3: Manuel Neumann | G3: DreiRadBande | H3: Mixed | J3: 0.59097222 | K3: 0.6375 | L3: 0.046527778 | M3: 43.3 | N3: 38.776119
A4: 3 | B4: 34 | C4: 6 | D4: Martina Schmitt | F4: Andreas Grabner | G4: Lanterne Rouge SCC Malina | H4: Mixed | J4: 0.5875 | K4: 0.635 | L4: 0.0475 | M4: 43.3 | N4: 37.982456
A5: 4 | B5: 39 | C5: 59 | D5: David Janecka | F5: Claudia Obernhuber | H5: Mixed | J5: 0.62430556 | K5: 0.67228009 | L5: 0.047974537 | M5: 43.3 | N5: 37.606755
A6: 5 | B6: 41 | C6: 13 | D6: Martina Jansch | F6: Mario Baumgartner | G6: M&M Racing – Stronger Together | H6: Mixed | J6: 0.59236111 | K6: 0.64189815 | L6: 0.049537037 | M6: 43.3 | N6: 36.420561
A7: 6 | B7: 43 | C7: 46 | D7: Doris Schwaiger-Robl | F7: Paul Robl | G7: RC Raiba Kosmopiloten - nicht streiten, treten | H7: Mixed | J7: 0.61527778 | K7: 0.665 | L7: 0.049722222 | M7: 43.3 | N7: 36.284916
A8: 7 | B8: 44 | C8: 14 | D8: Johanna Baumgartner | F8: Michael Baumgartner | G8: Bike Union Altenberg - Ice Ice Baumis | H8: Mixed | J8: 0.59305556 | K8: 0.64311343 | L8: 0.05005787 | M8: 43.3 | N8: 36.041618
A9: 8 | B9: 48 | C9: 9 | D9: Katharina Brenner | F9: Mayerhofer Martin | G9: RC Raiba Kosmopiloten Zwettl - Klick & Klack | H9: Mixed | J9: 0.58958333 | K9: 0.64104167 | L9: 0.051458333 | M9: 43.3 | N9: 35.060729
A10: 9 | B10: 50 | C10: 15 | D10: Andrea Melicharova | F10: Petr Vymola | G10: Maulwurfviertel | H10: Mixed | J10: 0.59375 | K10: 0.6458912 | L10: 0.052141204 | M10: 43.3 | N10: 34.601554
A11: 10 | B11: 54 | C11: 5 | D11: Gabriela Dangl-Pater | F11: Kees Pater | G11: RC Raiba Kosmopiloten Zwettl - die fleißig Strampelnden | H11: Mixed | J11: 0.58680556 | K11: 0.64416667 | L11: 0.057361111 | M11: 43.3 | N11: 31.452785

Sheet Herren PZF
A1: Platz Kategorie | B1: Platz Gesamt | C1: Start- nummer | D1: Fahrer 1 | E1: Jahrgang Fahrer 1 | F1: Fahrer 2 | G1: Verein/Teamname | H1: Kategorie | I1: Radtyp | J1: Zeit Start | K1: Zeit Ziel | L1: Zeit Ergebnis | M1: km | N1: km/h gesamt
A2: 1 | B2: 1 | C2: 16 | D2: Philip Sanjath | F2: Jakob Ulreich | G2: Weichberger - KTM, VICC Racing Division | H2: Herrn | J2: 0.59444444 | K2: 0.63324074 | L2: 0.038796296 | M2: 43.3 | N2: 46.50358
A3: 2 | B3: 2 | C3: 26 | D3: Michael Eder | F3: Patrick Fitzinger | G3: 2RC FORMAT Radshop Kalteis | H3: Herrn | J3: 0.60138889 | K3: 0.64049769 | L3: 0.039108796 | M3: 43.3 | N3: 46.131992
A4: 3 | B4: 9 | C4: 18 | D4: Andreas Zöchling | F4: Michael Gaubitzer | G4: RC Raiba Kosmopiloten/ARBÖ Kolkar Cycling Team | H4: Herrn | J4: 0.59583333 | K4: 0.6362037 | L4: 0.04037037 | M4: 43.3 | N4: 44.690367
A5: 4 | B5: 10 | C5: 21 | D5: Thomas Reischer | F5: Christoph Scheuch | G5: 2RCFORMAT Radshop Kalteis - old and young | H5: Herrn | J5: 0.59791667 | K5: 0.63834491 | L5: 0.040428241 | M5: 43.3 | N5: 44.626396
A6: 5 | B6: 13 | C6: 25 | D6: Andreas Tiefenböck | F6: Reinhard Tiefenböck | G6: 2RC FORMAT Radshop Kalteis | H6: Herrn | J6: 0.60069444 | K6: 0.64178241 | L6: 0.041087963 | M6: 43.3 | N6: 43.909859
A7: 6 | B7: 16 | C7: 20 | D7: Holasek Sascha | F7: Kaburek Jürgen | G7: 2RCFORMAT Radshop Kalteis | H7: Herrn | J7: 0.59722222 | K7: 0.63944444 | L7: 0.042222222 | M7: 43.3 | N7: 42.730263
A8: 7 | B8: 17 | C8: 23 | D8: Jürgen Layer | F8: Thomas Elsigan | G8: RC Raiba Kosmopiloten Zwettl - vermessen & verspannt | H8: Herrn | J8: 0.59930556 | K8: 0.64178241 | L8: 0.042476852 | M8: 43.3 | N8: 42.474114
A9: 8 | B9: 19 | C9: 4 | D9: Hofmann Patrick | F9: Lukas Birklbauer | G9: REINDL-GARTNER Cycling Team | H9: Herrn | J9: 0.58611111 | K9: 0.62908565 | L9: 0.042974537 | M9: 43.3 | N9: 41.982225
A10: 9 | B10: 25 | C10: 39 | D10: Lukas Weissensteiner | F10: Bernhard Fertl | G10: Union XC-Club Mühldorf | H10: Herrn | J10: 0.61041667 | K10: 0.65545139 | L10: 0.045034722 | M10: 43.3 | N10: 40.061681
A11: 10 | B11: 27 | C11: 36 | D11: Markus Volkmann | F11: Hieronymus Orth | H11: Herrn | J11: 0.60833333 | K11: 0.65375 | L11: 0.045416667 | M11: 43.3 | N11: 39.724771
A12: 11 | B12: 28 | C12: 10 | D12: Christoph Zwölfer | F12: Christoph Stibl | G12: RC Ybbs - El Glatzo | H12: Herrn | J12: 0.59027778 | K12: 0.63608796 | L12: 0.045810185 | M12: 43.3 | N12: 39.383527
A13: 12 | B13: 33 | C13: 24 | D13: Johannes Wittmann | F13: Christoph Schierhuber | G13: RC Raiba Kosmopiloten Zwettl - Maillot Blanc | H13: Herrn | J13: 0.6 | K13: 0.64722222 | L13: 0.047222222 | M13: 43.3 | N13: 38.205882
A14: 13 | B14: 36 | C14: 19 | D14: Alexander Durstmüller | F14: Roman Berger | G14: RSC Krems | H14: Herrn | J14: 0.59652778 | K14: 0.6441088 | L14: 0.047581019 | M14: 43.3 | N14: 37.917782
A15: 14 | B15: 37 | C15: 17 | D15: Gerald Leutgeb | F15: Leopold Haselmann | G15: ÖAMTC-ASC Tiroler Radler-Bozen/RC-Tulln | H15: Herrn | J15: 0.59513889 | K15: 0.64274306 | L15: 0.047604167 | M15: 43.3 | N15: 37.899344
A16: 15 | B16: 38 | C16: 12 | D16: Christian Ott | F16: Erich Aichinger | G16: ARBÖ Kollar Cycling Team | H16: Herrn | J16: 0.59166667 | K16: 0.6393287 | L16: 0.047662037 | M16: 43.3 | N16: 37.853327
A17: 16 | B17: 42 | C17: 47 | D17: Michael Gössl | F17: Andreas Schröder | G17: RC Raiba Kosmopiloten | H17: Herrn | J17: 0.61597222 | K17: 0.66559028 | L17: 0.049618056 | M17: 43.3 | N17: 36.361092
A18: 17 | B18: 51 | C18: 7 | D18: Nikolaus Hondl | F18: Jakob Galle | G18: Team Twinni | H18: Herrn | J18: 0.58819444 | K18: 0.64072917 | L18: 0.052534722 | M18: 43.3 | N18: 34.342366
A19: 18 | B19: 56 | C19: 1 | D19: Michael Bujak | F19: Jan Bujak | G19: BUJAK | H19: Herrn | J19: 0.58402778 | K19: 0.64606481 | L19: 0.062037037 | M19: 43.3 | N19: 29.08209
B20: DNS | C20: 22 | D20: Karl Schöller | F20: Max Schrenk | G20: 2RCFORMAT Radshop Kalteis | H20: Herrn | J20: 0.59861111 | L20: -0.59861111 | M20: 43.3 | N20: -3.0139211

Sheet Einzel Damen
A1: Platz Kategorie | B1: Platz Gesamt | C1: Start- nummer | D1: Fahrer 1 | E1: Jahrgang Fahrer 1 | F1: Fahrer 2 | G1: Verein/Teamname | H1: Kategorie | I1: Radtyp | J1: Zeit Start | K1: Zeit Ziel | L1: Zeit Ergebnis | M1: km | N1: km/h gesamt
A2: 1 | B2: 26 | C2: 37 | D2: Anna Vass | E2: 2000 | G2: BBUC Racing Dream | H2: Einzel Damen | I2: RR | J2: 0.60902778 | K2: 0.6543287 | L2: 0.045300926 | M2: 43.3 | N2: 39.826265
A3: 2 | B3: 46 | C3: 48 | D3: Theresa Mistelbauer | E3: 2001 | G3: PTM | H3: Einzel Damen | I3: RR | J3: 0.61666667 | K3: 0.66677083 | L3: 0.050104167 | M3: 43.3 | N3: 36.008316
A4: 3 | B4: 49 | C4: 28 | D4: Brigitte Stocker | E4: 1975 | G4: BearRides | H4: Einzel Damen | I4: RR | J4: 0.60277778 | K4: 0.65479167 | L4: 0.052013889 | M4: 43.3 | N4: 34.686248
A5: 4 | B5: 52 | C5: 42 | D5: Christina Kastner | E5: 1987 | G5: RC Raiba Kosmopiloten Zwettl | H5: Einzel Damen | I5: RR | J5: 0.6125 | K5: 0.66659722 | L5: 0.054097222 | M5: 43.3 | N5: 33.350449
A6: 5 | B6: 55 | C6: 29 | D6: Andrea Krenn | E6: 1973 | G6: Cycle Team Tulln | H6: Einzel Damen | I6: RR | J6: 0.60347222 | K6: 0.66248843 | L6: 0.059016204 | M6: 43.3 | N6: 30.5707
A7: 6 | B7: 57 | C7: 27 | D7: Traude Simetits | E7: 1962 | G7: NORA RACING TEAM | H7: Einzel Damen | I7: ZFR | J7: 0.60208333 | K7: 0.66483796 | L7: 0.06275463 | M7: 43.3 | N7: 28.749539

Sheet Einzel Herrn
A1: Platz Kategorie | B1: Platz Gesamt | C1: Start- nummer | D1: Fahrer 1 | E1: Jahrgang Fahrer 1 | F1: Fahrer 2 | G1: Verein/Teamname | H1: Kategorie | I1: Radtyp | J1: Zeit Start | K1: Zeit Ziel | L1: Zeit Ergebnis | M1: km | N1: km/h gesamt
A2: 1 | B2: 3 | C2: 52 | D2: Mikolas Rost | E2: 1983 | G2: RC Raiba Kosmopiloten Zwettl | H2: Einzel Herrn | I2: ZFR | J2: 0.61944444 | K2: 0.65873843 | L2: 0.039293981 | M2: 43.3 | N2: 45.91458
A3: 2 | B3: 4 | C3: 54 | D3: Andreas Widhalm | E3: 1987 | G3: RC Raiba Kosmopiloten Zwettl | H3: Einzel Herrn | I3: ZFR | J3: 0.62083333 | K3: 0.6603125 | L3: 0.039479167 | M3: 43.3 | N3: 45.699208
A4: 3 | B4: 5 | C4: 45 | D4: Harald Becker | E4: 1981 | G4: FREE EAGLE Fun Racing Team | H4: Einzel Herrn | I4: ZFR | J4: 0.61458333 | K4: 0.65472222 | L4: 0.040138889 | M4: 43.3 | N4: 44.948097
A5: 4 | B5: 6 | C5: 32 | D5: Wolfgang Steinbach | E5: 1970 | G5: maroitalia racing team | H5: Einzel Herrn | I5: RR | J5: 0.60555556 | K5: 0.64590278 | L5: 0.040347222 | M5: 43.3 | N5: 44.716007
A6: 5 | B6: 7 | C6: 44 | D6: Wolfgang Bachofner | E6: 1993 | G6: RC Raiba Kosmopiloten Zwettl - WB-Racing | H6: Einzel Herrn | I6: ZFR | J6: 0.61388889 | K6: 0.65423611 | L6: 0.040347222 | M6: 43.3 | N6: 44.716007
A7: 6 | B7: 8 | C7: 38 | D7: Daniel Kapeller | E7: 1980 | G7: Wagram Cycling Team - no carbs, no glory | H7: Einzel Herrn | I7: ZFR | J7: 0.60972222 | K7: 0.65008102 | L7: 0.040358796 | M7: 43.3 | N7: 44.703183
A8: 7 | B8: 11 | C8: 56 | D8: Dominik Schleritzko | E8: 1994 | H8: Einzel Herrn | I8: RR | J8: 0.62222222 | K8: 0.66283565 | L8: 0.040613426 | M8: 43.3 | N8: 44.422913
A9: 8 | B9: 12 | C9: 35 | D9: Manfred Neudorfer | E9: 1974 | G9: Cycle Team Tulln | H9: Einzel Herrn | I9: RR | J9: 0.60763889 | K9: 0.64837963 | L9: 0.040740741 | M9: 43.3 | N9: 44.284091
A10: 1 | B10: 14 | C10: 60 | D10: Bernd Eichinger | E10: 1980 | H10: Einzel Herrn | I10: RR | J10: 0.625 | K10: 0.6665162 | L10: 0.041516204 | M10: 43.3 | N10: 43.456928
A11: 9 | B11: 15 | C11: 43 | D11: Elias Kronister | E11: 2004 | G11: 2RC Format Radshop Kalteis | H11: Einzel Herrn | I11: RR | J11: 0.61319444 | K11: 0.6550463 | L11: 0.041851852 | M11: 43.3 | N11: 43.108407
A12: 10 | B12: 18 | C12: 49 | D12: Alfred Nentwich | E12: 1966 | G12: RC Friedberg Pinggau | H12: Einzel Herrn | I12: ZFR | J12: 0.61736111 | K12: 0.65986111 | L12: 0.0425 | M12: 43.3 | N12: 42.45098
A13: 11 | B13: 20 | C13: 31 | D13: Helmut Peyrl | E13: 1973 | G13: PSV Linz | H13: Einzel Herrn | I13: RR | J13: 0.60486111 | K13: 0.64810185 | L13: 0.043240741 | M13: 43.3 | N13: 41.723769
A14: 12 | B14: 21 | C14: 3 | D14: Gerhard Wögerer | E14: 1982 | G14: RSC Krems | H14: Einzel Herrn | I14: ZFR | J14: 0.58541667 | K14: 0.62913194 | L14: 0.043715278 | M14: 43.3 | N14: 41.27085
A15: 13 | B15: 22 | C15: 57 | D15: Stefan Binder | E15: 1992 | G15: FDC | H15: Einzel Herrn | I15: RR | J15: 0.62291667 | K15: 0.66664352 | L15: 0.043726852 | M15: 43.3 | N15: 41.259926
A16: 14 | B16: 23 | C16: 41 | D16: Peter Weszits | E16: 1980 | G16: AWR Wienenergie Rösler & Co | H16: Einzel Herrn | I16: ZFR | J16: 0.61180556 | K16: 0.65631944 | L16: 0.044513889 | M16: 43.3 | N16: 40.530421
A17: 15 | B17: 24 | C17: 58 | D17: Manfred Koch | E17: 1970 | H17: Einzel Herrn | I17: ZFR | J17: 0.62361111 | K17: 0.66820602 | L17: 0.044594907 | M17: 43.3 | N17: 40.456787
A18: 16 | B18: 31 | C18: 33 | D18: Joachim Grassinger | E18: 2001 | G18: RC Raiba Kosmpiloten Zwettl | H18: Einzel Herrn | I18: RR | J18: 0.60625 | K18: 0.65290509 | L18: 0.046655093 | M18: 43.3 | N18: 38.670305
A19: 17 | B19: 32 | C19: 50 | D19: Josef Sattler | G19: rc tadten | H19: Einzel Herrn | J19: 0.61805556 | K19: 0.66480324 | L19: 0.046747685 | M19: 43.3 | N19: 38.593711
A20: 18 | B20: 35 | C20: 55 | D20: Johannes Krenn | E20: 1968 | G20: Cycle Team Tulln | H20: Einzel Herrn | I20: ZFR | J20: 0.62152778 | K20: 0.6690625 | L20: 0.047534722 | M20: 43.3 | N20: 37.954711
A21: 19 | B21: 40 | C21: 2 | D21: Hannes Krivetz | E21: 1959 | G21: RC Raiba Kosmopiloten Zwettl | H21: Einzel Herrn | I21: ZFR | J21: 0.58472222 | K21: 0.63319444 | L21: 0.048472222 | M21: 43.3 | N21: 37.22063
A22: 20 | B22: 45 | C22: 40 | D22: Thomas Holzmann | E22: 1995 | G22: RC Raiba Kosmopiloten Zwettl - Han Solo | H22: Einzel Herrn | I22: RR | J22: 0.61111111 | K22: 0.66121528 | L22: 0.050104167 | M22: 43.3 | N22: 36.008316
A23: 21 | B23: 47 | C23: 34 | D23: Alexander Heili | E23: 1973 | G23: ULC Horn | H23: Einzel Herrn | I23: ZFR | J23: 0.60694444 | K23: 0.6571412 | L23: 0.050196759 | M23: 43.3 | N23: 35.941895
A24: 22 | B24: 53 | C24: 30 | D24: Florian Gruber | E24: 2001 | H24: Einzel Herrn | I24: RR | J24: 0.60416667 | K24: 0.65946759 | L24: 0.055300926 | M24: 43.3 | N24: 32.624529
B25: DNF | C25: 53 | D25: Christian Suchanek | E25: 1979 | G25: RSC Krems | H25: Einzel Herrn | I25: ZFR | J25: 0.62013889 | L25: -0.62013889 | M25: 43.3 | N25: -2.9092945
B26: DNS | C26: 51 | D26: Gerald Hauer | G26: SU bikestore.cc Team | H26: Einzel Herrn | J26: 0.61875 | L26: -0.61875 | M26: 43.3 | N26: -2.9158249

Sheet Konfig
B2: Streckeninfos
C4: Abschnitt | D4: km
C5: Distanz | D5: 43.3
B9: Listen
C11: PZF | D11: Herrn | E11: RR
C12: Shadow | D12: Einzel Damen | E12: ZFR
D13: Mixed
D14: Einzel Herrn
D15: Damen
